BEGIN:VCALENDAR
VERSION:2.0
METHOD:PUBLISH
X-WR-CALNAME:VFEK |  október 04 2011- október 04 2011
PRODID:-//strange bird labs//Drupal iCal API//EN
BEGIN:VEVENT
DTSTAMP;VALUE=DATE-TIME:20260420T141059Z
DTSTART;VALUE=DATE-TIME:20111003T090000Z
DTEND;VALUE=DATE-TIME:20111009T170000Z
UID:http://portal.vfmk.hu/node/1487
URL;VALUE=URI:http://portal.vfmk.hu/node/1487
SUMMARY:Országos Könyvtári Napok 2011. október 3-9.
DESCRIPTION:<p class=\\"rtecenter\\"><embed flashvars=\\"vID=683ab3584d&amp\;autostart=false\\" src=\\"http\://assets.indavideo.hu/swf/player.swf\\" quality=\\"high\\" bgcolor=\\"#666666\\" width=\\"460\\" height=\\"385\\" name=\\"guPlayer-683ab3584d\\" align=\\"middle\\" allowscriptaccess=\\"always\\" allowfullscreen=\\"true\\" type=\\"application/x-shockwave-flash\\" pluginspage=\\"http\://www.macromedia.com/go/getflashplayer\\"></embed></p>
 <p class=\\"rtecenter\\">Az <em><strong>&quot\;Orsz&aacute\;gos K&ouml\;nyvt&aacute\;ri Napok - K&ouml\;nyvt&aacute\;rak a tud&aacute\;s&eacute\;rt&quot\;</strong></em> programsorozat k&ouml\;nyvt&aacute\;runkbeli esem&eacute\;nyei r&ouml\;videsen el&eacute\;rhetőek lesznek honlapunkon!</p>
END:VEVENT
END:VCALENDAR
